BEGIN:VCALENDAR
VERSION:2.0
PRODID:-//City-Lab - ECPv6.15.12.2//NONSGML v1.0//EN
CALSCALE:GREGORIAN
METHOD:PUBLISH
X-WR-CALNAME:City-Lab
X-ORIGINAL-URL:https://city-lab.fi
X-WR-CALDESC:Tapahtumat City-Lab
REFRESH-INTERVAL;VALUE=DURATION:PT1H
X-Robots-Tag:noindex
X-PUBLISHED-TTL:PT1H
BEGIN:VTIMEZONE
TZID:Europe/Helsinki
BEGIN:DAYLIGHT
TZOFFSETFROM:+0200
TZOFFSETTO:+0300
TZNAME:EEST
DTSTART:20200329T010000
END:DAYLIGHT
BEGIN:STANDARD
TZOFFSETFROM:+0300
TZOFFSETTO:+0200
TZNAME:EET
DTSTART:20201025T010000
END:STANDARD
BEGIN:DAYLIGHT
TZOFFSETFROM:+0200
TZOFFSETTO:+0300
TZNAME:EEST
DTSTART:20210328T010000
END:DAYLIGHT
BEGIN:STANDARD
TZOFFSETFROM:+0300
TZOFFSETTO:+0200
TZNAME:EET
DTSTART:20211031T010000
END:STANDARD
BEGIN:DAYLIGHT
TZOFFSETFROM:+0200
TZOFFSETTO:+0300
TZNAME:EEST
DTSTART:20220327T010000
END:DAYLIGHT
BEGIN:STANDARD
TZOFFSETFROM:+0300
TZOFFSETTO:+0200
TZNAME:EET
DTSTART:20221030T010000
END:STANDARD
END:VTIMEZONE
BEGIN:VEVENT
DTSTART;TZID=Europe/Helsinki:20210503T080000
DTEND;TZID=Europe/Helsinki:20210507T170000
DTSTAMP:20260421T044801
CREATED:20210420T101700Z
LAST-MODIFIED:20210420T101700Z
UID:7083-1620028800-1620406800@city-lab.fi
SUMMARY:Teemanäyttely: soluviljely
DESCRIPTION:Tämän viikon teemana on soluviljely. \nLue lisää tämän viikon uutiskirjeestä ja kysy City-Labista! \n  \nP.S. Mikäli et vielä ole uutiskirjeen tilaaja\, voit liittyä tämän sivun alalaidasta.
URL:https://city-lab.fi/event/teemanayttely-soluviljely/
END:VEVENT
END:VCALENDAR